BEGIN:VCALENDAR
VERSION:2.0
PRODID:-//Naphill and Walters Ash School - ECPv5.16.4//NONSGML v1.0//EN
CALSCALE:GREGORIAN
METHOD:PUBLISH
X-WR-CALNAME:Naphill and Walters Ash School
X-ORIGINAL-URL:https://naphillandwaltersashschool.co.uk
X-WR-CALDESC:Events for Naphill and Walters Ash School
BEGIN:VTIMEZONE
TZID:UTC
BEGIN:STANDARD
TZOFFSETFROM:+0000
TZOFFSETTO:+0000
TZNAME:UTC
DTSTART:20230101T000000
END:STANDARD
END:VTIMEZONE
BEGIN:VEVENT
DTSTART;TZID=UTC:20230628T183000
DTEND;TZID=UTC:20230628T193000
DTSTAMP:20260419T181650
CREATED:20230329T132242Z
LAST-MODIFIED:20230329T132242Z
UID:4896-1687977000-1687980600@naphillandwaltersashschool.co.uk
SUMMARY:September 2023 - Year R Intake - Parents Information Meeting
DESCRIPTION:
URL:https://naphillandwaltersashschool.co.uk/calendar/september-2023-year-r-intake-parents-information-meeting/
END:VEVENT
END:VCALENDAR