BEGIN:VCALENDAR
VERSION:2.0
PRODID:-//Naphill and Walters Ash School - ECPv5.16.4//NONSGML v1.0//EN
CALSCALE:GREGORIAN
METHOD:PUBLISH
X-WR-CALNAME:Naphill and Walters Ash School
X-ORIGINAL-URL:https://naphillandwaltersashschool.co.uk
X-WR-CALDESC:Events for Naphill and Walters Ash School
BEGIN:VTIMEZONE
TZID:UTC
BEGIN:STANDARD
TZOFFSETFROM:+0000
TZOFFSETTO:+0000
TZNAME:UTC
DTSTART:20240101T000000
END:STANDARD
END:VTIMEZONE
BEGIN:VEVENT
DTSTART;VALUE=DATE:20240604
DTEND;VALUE=DATE:20240605
DTSTAMP:20260421T190908
CREATED:20230329T133904Z
LAST-MODIFIED:20230329T133904Z
UID:4952-1717459200-1717545599@naphillandwaltersashschool.co.uk
SUMMARY:School Re-opens
DESCRIPTION:
URL:https://naphillandwaltersashschool.co.uk/calendar/school-re-opens-14/
END:VEVENT
END:VCALENDAR