BEGIN:VCALENDAR
VERSION:2.0
PRODID:-//Naphill and Walters Ash School - ECPv5.16.4//NONSGML v1.0//EN
CALSCALE:GREGORIAN
METHOD:PUBLISH
X-WR-CALNAME:Naphill and Walters Ash School
X-ORIGINAL-URL:https://naphillandwaltersashschool.co.uk
X-WR-CALDESC:Events for Naphill and Walters Ash School
BEGIN:VTIMEZONE
TZID:UTC
BEGIN:STANDARD
TZOFFSETFROM:+0000
TZOFFSETTO:+0000
TZNAME:UTC
DTSTART:20240101T000000
END:STANDARD
END:VTIMEZONE
BEGIN:VEVENT
DTSTART;VALUE=DATE:20240208
DTEND;VALUE=DATE:20240209
DTSTAMP:20260421T090259
CREATED:20230329T133531Z
LAST-MODIFIED:20230329T133531Z
UID:4938-1707350400-1707436799@naphillandwaltersashschool.co.uk
SUMMARY:School Closes for 1/2 term
DESCRIPTION:
URL:https://naphillandwaltersashschool.co.uk/calendar/school-closes-for-1-2-term-3/
END:VEVENT
END:VCALENDAR