BEGIN:VCALENDAR
VERSION:2.0
PRODID:-//Naphill and Walters Ash School - ECPv5.16.4//NONSGML v1.0//EN
CALSCALE:GREGORIAN
METHOD:PUBLISH
X-WR-CALNAME:Naphill and Walters Ash School
X-ORIGINAL-URL:https://naphillandwaltersashschool.co.uk
X-WR-CALDESC:Events for Naphill and Walters Ash School
BEGIN:VTIMEZONE
TZID:UTC
BEGIN:STANDARD
TZOFFSETFROM:+0000
TZOFFSETTO:+0000
TZNAME:UTC
DTSTART:20240101T000000
END:STANDARD
END:VTIMEZONE
BEGIN:VEVENT
DTSTART;VALUE=DATE:20241217
DTEND;VALUE=DATE:20241218
DTSTAMP:20260421T140606
CREATED:20240911T111602Z
LAST-MODIFIED:20240911T111602Z
UID:5268-1734393600-1734479999@naphillandwaltersashschool.co.uk
SUMMARY:Reception / KS1 Nativity - AM Performance - Info to follow
DESCRIPTION:
URL:https://naphillandwaltersashschool.co.uk/calendar/reception-ks1-nativity-am-performance-info-to-follow/
END:VEVENT
END:VCALENDAR