BEGIN:VCALENDAR
VERSION:2.0
PRODID:-//Naphill and Walters Ash School - ECPv5.16.4//NONSGML v1.0//EN
CALSCALE:GREGORIAN
METHOD:PUBLISH
X-WR-CALNAME:Naphill and Walters Ash School
X-ORIGINAL-URL:https://naphillandwaltersashschool.co.uk
X-WR-CALDESC:Events for Naphill and Walters Ash School
BEGIN:VTIMEZONE
TZID:UTC
BEGIN:STANDARD
TZOFFSETFROM:+0000
TZOFFSETTO:+0000
TZNAME:UTC
DTSTART:20240101T000000
END:STANDARD
END:VTIMEZONE
BEGIN:VEVENT
DTSTART;VALUE=DATE:20240627
DTEND;VALUE=DATE:20240628
DTSTAMP:20260421T191430
CREATED:20240314T115903Z
LAST-MODIFIED:20240314T115903Z
UID:5128-1719446400-1719532799@naphillandwaltersashschool.co.uk
SUMMARY:KS2 Sports Day -Time TBC
DESCRIPTION:
URL:https://naphillandwaltersashschool.co.uk/calendar/ks2-sports-day-time-tbc/
END:VEVENT
END:VCALENDAR