BEGIN:VCALENDAR
VERSION:2.0
PRODID:-//Naphill and Walters Ash School - ECPv5.16.4//NONSGML v1.0//EN
CALSCALE:GREGORIAN
METHOD:PUBLISH
X-WR-CALNAME:Naphill and Walters Ash School
X-ORIGINAL-URL:https://naphillandwaltersashschool.co.uk
X-WR-CALDESC:Events for Naphill and Walters Ash School
BEGIN:VTIMEZONE
TZID:UTC
BEGIN:STANDARD
TZOFFSETFROM:+0000
TZOFFSETTO:+0000
TZNAME:UTC
DTSTART:20230101T000000
END:STANDARD
END:VTIMEZONE
BEGIN:VEVENT
DTSTART;TZID=UTC:20230628T163000
DTEND;TZID=UTC:20230628T193000
DTSTAMP:20260419T162158
CREATED:20230329T132311Z
LAST-MODIFIED:20230329T132311Z
UID:4898-1687969800-1687980600@naphillandwaltersashschool.co.uk
SUMMARY:Kobika Cheerleading Competition
DESCRIPTION:
URL:https://naphillandwaltersashschool.co.uk/calendar/kobika-cheerleading-competition/
END:VEVENT
END:VCALENDAR