BEGIN:VCALENDAR
VERSION:2.0
PRODID:-//Naphill and Walters Ash School - ECPv5.16.4//NONSGML v1.0//EN
CALSCALE:GREGORIAN
METHOD:PUBLISH
X-WR-CALNAME:Naphill and Walters Ash School
X-ORIGINAL-URL:https://naphillandwaltersashschool.co.uk
X-WR-CALDESC:Events for Naphill and Walters Ash School
BEGIN:VTIMEZONE
TZID:UTC
BEGIN:STANDARD
TZOFFSETFROM:+0000
TZOFFSETTO:+0000
TZNAME:UTC
DTSTART:20230101T000000
END:STANDARD
END:VTIMEZONE
BEGIN:VEVENT
DTSTART;VALUE=DATE:20230505
DTEND;VALUE=DATE:20230506
DTSTAMP:20260421T223022
CREATED:20230329T131435Z
LAST-MODIFIED:20230329T131435Z
UID:4874-1683244800-1683331199@naphillandwaltersashschool.co.uk
SUMMARY:Kings Coronation Celebration Day
DESCRIPTION:
URL:https://naphillandwaltersashschool.co.uk/calendar/kings-coronation-celebration-day/
END:VEVENT
END:VCALENDAR