BEGIN:VCALENDAR
VERSION:2.0
PRODID:-//Naphill and Walters Ash School - ECPv5.16.4//NONSGML v1.0//EN
CALSCALE:GREGORIAN
METHOD:PUBLISH
X-WR-CALNAME:Naphill and Walters Ash School
X-ORIGINAL-URL:https://naphillandwaltersashschool.co.uk
X-WR-CALDESC:Events for Naphill and Walters Ash School
BEGIN:VTIMEZONE
TZID:UTC
BEGIN:STANDARD
TZOFFSETFROM:+0000
TZOFFSETTO:+0000
TZNAME:UTC
DTSTART:20220101T000000
END:STANDARD
END:VTIMEZONE
BEGIN:VEVENT
DTSTART;TZID=UTC:20221124T170000
DTEND;TZID=UTC:20221124T190000
DTSTAMP:20260422T125724
CREATED:20220911T151127Z
LAST-MODIFIED:20220911T151127Z
UID:4501-1669309200-1669316400@naphillandwaltersashschool.co.uk
SUMMARY:Full Governing Body Meeting
DESCRIPTION:
URL:https://naphillandwaltersashschool.co.uk/calendar/full-governing-body-meeting-3/
END:VEVENT
END:VCALENDAR