BEGIN:VCALENDAR
VERSION:2.0
PRODID:-//Naphill and Walters Ash School - ECPv5.16.4//NONSGML v1.0//EN
CALSCALE:GREGORIAN
METHOD:PUBLISH
X-WR-CALNAME:Naphill and Walters Ash School
X-ORIGINAL-URL:https://naphillandwaltersashschool.co.uk
X-WR-CALDESC:Events for Naphill and Walters Ash School
BEGIN:VTIMEZONE
TZID:UTC
BEGIN:STANDARD
TZOFFSETFROM:+0000
TZOFFSETTO:+0000
TZNAME:UTC
DTSTART:20220101T000000
END:STANDARD
END:VTIMEZONE
BEGIN:VEVENT
DTSTART;VALUE=DATE:20221202
DTEND;VALUE=DATE:20221203
DTSTAMP:20260422T110652
CREATED:20220911T151255Z
LAST-MODIFIED:20220911T151255Z
UID:4507-1669939200-1670025599@naphillandwaltersashschool.co.uk
SUMMARY:Christmas Jumper Day - all year groups
DESCRIPTION:
URL:https://naphillandwaltersashschool.co.uk/calendar/christmas-jumper-day-all-year-groups/
END:VEVENT
END:VCALENDAR