BEGIN:VCALENDAR
VERSION:2.0
PRODID:-//Naphill and Walters Ash School - ECPv5.16.4//NONSGML v1.0//EN
CALSCALE:GREGORIAN
METHOD:PUBLISH
X-WR-CALNAME:Naphill and Walters Ash School
X-ORIGINAL-URL:https://naphillandwaltersashschool.co.uk
X-WR-CALDESC:Events for Naphill and Walters Ash School
BEGIN:VTIMEZONE
TZID:UTC
BEGIN:STANDARD
TZOFFSETFROM:+0000
TZOFFSETTO:+0000
TZNAME:UTC
DTSTART:20230101T000000
END:STANDARD
END:VTIMEZONE
BEGIN:VEVENT
DTSTART;TZID=UTC:20230627T133000
DTEND;TZID=UTC:20230627T153000
DTSTAMP:20260425T204328
CREATED:20230329T132159Z
LAST-MODIFIED:20230329T132159Z
UID:4894-1687872600-1687879800@naphillandwaltersashschool.co.uk
SUMMARY:Year R and KS1 Sports Day
DESCRIPTION:
URL:https://naphillandwaltersashschool.co.uk/calendar/year-r-and-ks1-sports-day-2/
END:VEVENT
END:VCALENDAR