BEGIN:VCALENDAR
VERSION:2.0
PRODID:-//Naphill and Walters Ash School - ECPv5.16.4//NONSGML v1.0//EN
CALSCALE:GREGORIAN
METHOD:PUBLISH
X-WR-CALNAME:Naphill and Walters Ash School
X-ORIGINAL-URL:https://naphillandwaltersashschool.co.uk
X-WR-CALDESC:Events for Naphill and Walters Ash School
BEGIN:VTIMEZONE
TZID:UTC
BEGIN:STANDARD
TZOFFSETFROM:+0000
TZOFFSETTO:+0000
TZNAME:UTC
DTSTART:20230101T000000
END:STANDARD
END:VTIMEZONE
BEGIN:VEVENT
DTSTART;VALUE=DATE:20230301
DTEND;VALUE=DATE:20230302
DTSTAMP:20260425T133943
CREATED:20230130T100928Z
LAST-MODIFIED:20230130T100928Z
UID:4809-1677628800-1677715199@naphillandwaltersashschool.co.uk
SUMMARY:Year 6 - Secondary School places announced
DESCRIPTION:
URL:https://naphillandwaltersashschool.co.uk/calendar/year-6-secondary-school-places-announced/
END:VEVENT
END:VCALENDAR