BEGIN:VCALENDAR
VERSION:2.0
PRODID:-//Naphill and Walters Ash School - ECPv5.16.4//NONSGML v1.0//EN
CALSCALE:GREGORIAN
METHOD:PUBLISH
X-WR-CALNAME:Naphill and Walters Ash School
X-ORIGINAL-URL:https://naphillandwaltersashschool.co.uk
X-WR-CALDESC:Events for Naphill and Walters Ash School
BEGIN:VTIMEZONE
TZID:UTC
BEGIN:STANDARD
TZOFFSETFROM:+0000
TZOFFSETTO:+0000
TZNAME:UTC
DTSTART:20220101T000000
END:STANDARD
END:VTIMEZONE
BEGIN:VEVENT
DTSTART;TZID=UTC:20220712T190000
DTEND;TZID=UTC:20220712T190000
DTSTAMP:20260425T011022
CREATED:20220412T101023Z
LAST-MODIFIED:20220412T101023Z
UID:4235-1657652400-1657652400@naphillandwaltersashschool.co.uk
SUMMARY:Year 6 Production
DESCRIPTION:
URL:https://naphillandwaltersashschool.co.uk/calendar/year-6-production/
END:VEVENT
END:VCALENDAR