BEGIN:VCALENDAR
VERSION:2.0
PRODID:-//Naphill and Walters Ash School - ECPv5.16.4//NONSGML v1.0//EN
CALSCALE:GREGORIAN
METHOD:PUBLISH
X-WR-CALNAME:Naphill and Walters Ash School
X-ORIGINAL-URL:https://naphillandwaltersashschool.co.uk
X-WR-CALDESC:Events for Naphill and Walters Ash School
BEGIN:VTIMEZONE
TZID:UTC
BEGIN:STANDARD
TZOFFSETFROM:+0000
TZOFFSETTO:+0000
TZNAME:UTC
DTSTART:20220101T000000
END:STANDARD
END:VTIMEZONE
BEGIN:VEVENT
DTSTART;VALUE=DATE:20220509
DTEND;VALUE=DATE:20220510
DTSTAMP:20260424T213618
CREATED:20220412T100120Z
LAST-MODIFIED:20220412T100120Z
UID:4199-1652054400-1652140799@naphillandwaltersashschool.co.uk
SUMMARY:Year 1 Trip to Bekonscot Model Village
DESCRIPTION:
URL:https://naphillandwaltersashschool.co.uk/calendar/year-1-trip-to-bekonscot-model-village/
END:VEVENT
BEGIN:VEVENT
DTSTART;TZID=UTC:20220509T080000
DTEND;TZID=UTC:20220513T170000
DTSTAMP:20260424T213618
CREATED:20220412T100148Z
LAST-MODIFIED:20220412T100148Z
UID:4201-1652083200-1652461200@naphillandwaltersashschool.co.uk
SUMMARY:Year 6 SATs week
DESCRIPTION:
URL:https://naphillandwaltersashschool.co.uk/calendar/year-6-sats-week/
END:VEVENT
END:VCALENDAR