BEGIN:VCALENDAR
VERSION:2.0
PRODID:-//Naphill and Walters Ash School - ECPv5.16.4//NONSGML v1.0//EN
CALSCALE:GREGORIAN
METHOD:PUBLISH
X-WR-CALNAME:Naphill and Walters Ash School
X-ORIGINAL-URL:https://naphillandwaltersashschool.co.uk
X-WR-CALDESC:Events for Naphill and Walters Ash School
BEGIN:VTIMEZONE
TZID:UTC
BEGIN:STANDARD
TZOFFSETFROM:+0000
TZOFFSETTO:+0000
TZNAME:UTC
DTSTART:20220101T000000
END:STANDARD
END:VTIMEZONE
BEGIN:VEVENT
DTSTART;VALUE=DATE:20220429
DTEND;VALUE=DATE:20220430
DTSTAMP:20260424T194332
CREATED:20220412T095933Z
LAST-MODIFIED:20220412T095933Z
UID:4193-1651190400-1651276799@naphillandwaltersashschool.co.uk
SUMMARY:Year 5 Trip to Longridge
DESCRIPTION:
URL:https://naphillandwaltersashschool.co.uk/calendar/year-5-trip-to-longridge/
END:VEVENT
END:VCALENDAR