BEGIN:VCALENDAR
VERSION:2.0
PRODID:-//Naphill and Walters Ash School - ECPv5.16.4//NONSGML v1.0//EN
CALSCALE:GREGORIAN
METHOD:PUBLISH
X-WR-CALNAME:Naphill and Walters Ash School
X-ORIGINAL-URL:https://naphillandwaltersashschool.co.uk
X-WR-CALDESC:Events for Naphill and Walters Ash School
BEGIN:VTIMEZONE
TZID:UTC
BEGIN:STANDARD
TZOFFSETFROM:+0000
TZOFFSETTO:+0000
TZNAME:UTC
DTSTART:20220101T000000
END:STANDARD
END:VTIMEZONE
BEGIN:VEVENT
DTSTART;VALUE=DATE:20220408
DTEND;VALUE=DATE:20220409
DTSTAMP:20260424T194332
CREATED:20210429T122652Z
LAST-MODIFIED:20210429T122652Z
UID:3882-1649376000-1649462399@naphillandwaltersashschool.co.uk
SUMMARY:School Closes for Easter @12:05pm
DESCRIPTION:
URL:https://naphillandwaltersashschool.co.uk/calendar/school-closes-for-easter-1205pm/
END:VEVENT
END:VCALENDAR