BEGIN:VCALENDAR
VERSION:2.0
PRODID:-//Naphill and Walters Ash School - ECPv5.16.4//NONSGML v1.0//EN
CALSCALE:GREGORIAN
METHOD:PUBLISH
X-WR-CALNAME:Naphill and Walters Ash School
X-ORIGINAL-URL:https://naphillandwaltersashschool.co.uk
X-WR-CALDESC:Events for Naphill and Walters Ash School
BEGIN:VTIMEZONE
TZID:UTC
BEGIN:STANDARD
TZOFFSETFROM:+0000
TZOFFSETTO:+0000
TZNAME:UTC
DTSTART:20210101T000000
END:STANDARD
END:VTIMEZONE
BEGIN:VEVENT
DTSTART;VALUE=DATE:20211210
DTEND;VALUE=DATE:20211211
DTSTAMP:20260422T134945
CREATED:20211109T104026Z
LAST-MODIFIED:20211109T104026Z
UID:4001-1639094400-1639180799@naphillandwaltersashschool.co.uk
SUMMARY:WANSA Christmas Jumper Day and raffle Draw
DESCRIPTION:
URL:https://naphillandwaltersashschool.co.uk/calendar/wansa-christmas-jumper-day-and-raffle-draw/
END:VEVENT
BEGIN:VEVENT
DTSTART;VALUE=DATE:20211210
DTEND;VALUE=DATE:20211211
DTSTAMP:20260422T134945
CREATED:20211109T104058Z
LAST-MODIFIED:20211109T104058Z
UID:4003-1639094400-1639180799@naphillandwaltersashschool.co.uk
SUMMARY:Flu Immunisations (All Year Groups)
DESCRIPTION:
URL:https://naphillandwaltersashschool.co.uk/calendar/flu-immunisations-all-year-groups/
END:VEVENT
END:VCALENDAR