BEGIN:VCALENDAR
VERSION:2.0
PRODID:-//Naphill and Walters Ash School - ECPv5.16.4//NONSGML v1.0//EN
CALSCALE:GREGORIAN
METHOD:PUBLISH
X-WR-CALNAME:Naphill and Walters Ash School
X-ORIGINAL-URL:https://naphillandwaltersashschool.co.uk
X-WR-CALDESC:Events for Naphill and Walters Ash School
BEGIN:VTIMEZONE
TZID:UTC
BEGIN:STANDARD
TZOFFSETFROM:+0000
TZOFFSETTO:+0000
TZNAME:UTC
DTSTART:20210101T000000
END:STANDARD
END:VTIMEZONE
BEGIN:VEVENT
DTSTART;VALUE=DATE:20211203
DTEND;VALUE=DATE:20211204
DTSTAMP:20260422T021641
CREATED:20211109T104001Z
LAST-MODIFIED:20211109T104001Z
UID:3999-1638489600-1638575999@naphillandwaltersashschool.co.uk
SUMMARY:Reception and KS1 Christmas Photos
DESCRIPTION:
URL:https://naphillandwaltersashschool.co.uk/calendar/reception-and-ks1-christmas-photos/
END:VEVENT
BEGIN:VEVENT
DTSTART;TZID=UTC:20211203T140000
DTEND;TZID=UTC:20211203T150000
DTSTAMP:20260422T021641
CREATED:20211109T103934Z
LAST-MODIFIED:20211109T103934Z
UID:3997-1638540000-1638543600@naphillandwaltersashschool.co.uk
SUMMARY:Reception and KS1 Christmas Magic Show
DESCRIPTION:
URL:https://naphillandwaltersashschool.co.uk/calendar/reception-and-ks1-christmas-magic-show/
END:VEVENT
END:VCALENDAR