BEGIN:VCALENDAR
VERSION:2.0
PRODID:-//Naphill and Walters Ash School - ECPv5.16.4//NONSGML v1.0//EN
CALSCALE:GREGORIAN
METHOD:PUBLISH
X-WR-CALNAME:Naphill and Walters Ash School
X-ORIGINAL-URL:https://naphillandwaltersashschool.co.uk
X-WR-CALDESC:Events for Naphill and Walters Ash School
BEGIN:VTIMEZONE
TZID:UTC
BEGIN:STANDARD
TZOFFSETFROM:+0000
TZOFFSETTO:+0000
TZNAME:UTC
DTSTART:20210101T000000
END:STANDARD
END:VTIMEZONE
BEGIN:VEVENT
DTSTART;VALUE=DATE:20211201
DTEND;VALUE=DATE:20211202
DTSTAMP:20260422T021352
CREATED:20211109T103839Z
LAST-MODIFIED:20211109T103839Z
UID:3993-1638316800-1638403199@naphillandwaltersashschool.co.uk
SUMMARY:Be Bright\, Be Seen Day
DESCRIPTION:
URL:https://naphillandwaltersashschool.co.uk/calendar/be-bright-be-seen-day/
END:VEVENT
END:VCALENDAR