BEGIN:VCALENDAR
VERSION:2.0
PRODID:-//Naphill and Walters Ash School - ECPv5.16.4//NONSGML v1.0//EN
CALSCALE:GREGORIAN
METHOD:PUBLISH
X-WR-CALNAME:Naphill and Walters Ash School
X-ORIGINAL-URL:https://naphillandwaltersashschool.co.uk
X-WR-CALDESC:Events for Naphill and Walters Ash School
BEGIN:VTIMEZONE
TZID:UTC
BEGIN:STANDARD
TZOFFSETFROM:+0000
TZOFFSETTO:+0000
TZNAME:UTC
DTSTART:20210101T000000
END:STANDARD
END:VTIMEZONE
BEGIN:VEVENT
DTSTART;VALUE=DATE:20211119
DTEND;VALUE=DATE:20211120
DTSTAMP:20260422T021520
CREATED:20211109T103728Z
LAST-MODIFIED:20211109T103728Z
UID:3989-1637280000-1637366399@naphillandwaltersashschool.co.uk
SUMMARY:Children in Need - Charity dress up day
DESCRIPTION:
URL:https://naphillandwaltersashschool.co.uk/calendar/children-in-need-charity-dress-up-day/
END:VEVENT
END:VCALENDAR