BEGIN:VCALENDAR
VERSION:2.0
PRODID:-//Naphill and Walters Ash School - ECPv5.16.4//NONSGML v1.0//EN
CALSCALE:GREGORIAN
METHOD:PUBLISH
X-WR-CALNAME:Naphill and Walters Ash School
X-ORIGINAL-URL:https://naphillandwaltersashschool.co.uk
X-WR-CALDESC:Events for Naphill and Walters Ash School
BEGIN:VTIMEZONE
TZID:UTC
BEGIN:STANDARD
TZOFFSETFROM:+0000
TZOFFSETTO:+0000
TZNAME:UTC
DTSTART:20210101T000000
END:STANDARD
END:VTIMEZONE
BEGIN:VEVENT
DTSTART;TZID=UTC:20210721T124500
DTEND;TZID=UTC:20210721T124500
DTSTAMP:20260423T104939
CREATED:20210107T142304Z
LAST-MODIFIED:20210107T142304Z
UID:3780-1626871500-1626871500@naphillandwaltersashschool.co.uk
SUMMARY:Break up 12:05pm
DESCRIPTION:
URL:https://naphillandwaltersashschool.co.uk/calendar/break-up-1205pm-2/
END:VEVENT
END:VCALENDAR